BEGIN:VCALENDAR
VERSION:2.0
PRODID:-//Florida Security License &amp; Defensive Training - ECPv6.3.2//NONSGML v1.0//EN
CALSCALE:GREGORIAN
METHOD:PUBLISH
X-WR-CALNAME:Florida Security License &amp; Defensive Training
X-ORIGINAL-URL:https://securitylicense.com
X-WR-CALDESC:Events for Florida Security License &amp; Defensive Training
REFRESH-INTERVAL;VALUE=DURATION:PT1H
X-Robots-Tag:noindex
X-PUBLISHED-TTL:PT1H
BEGIN:VTIMEZONE
TZID:America/New_York
BEGIN:DAYLIGHT
TZOFFSETFROM:-0500
TZOFFSETTO:-0400
TZNAME:EDT
DTSTART:20260308T070000
END:DAYLIGHT
BEGIN:STANDARD
TZOFFSETFROM:-0400
TZOFFSETTO:-0500
TZNAME:EST
DTSTART:20261101T060000
END:STANDARD
END:VTIMEZONE
BEGIN:VEVENT
DTSTART;TZID=America/New_York:20260615T040000
DTEND;TZID=America/New_York:20260618T140000
DTSTAMP:20260423T171400
CREATED:20260320T163125Z
LAST-MODIFIED:20260320T163125Z
UID:10000191-1781496000-1781791200@securitylicense.com
SUMMARY:Security Officer License D Fort Lauderdale
DESCRIPTION:Class “D” Security Officer License Requirements\n\n\nAny individual who performs the services of a security officer must have a Class “D” license. \nEligibility Requirements for your security license:\nTo qualify for a license\, you must: \n\nBe at least 18 years old.\nBe a citizen or legal resident alien of the United States or have been granted authority to work in this country by the Department of Homeland Security\, U.S. Citizenship and Immigration Services.\n\nTraining/Experience\nYou must submit proof of successful completion of a minimum of 40 hours of professional training provided by a security officer school or training facility licensed by the Florida Department of Agriculture and Consumer Services. \nExceptions: \n\nIf you are a currently employed law enforcement officer\, correctional officer\, or correctional probation officer certified by the Florida Department of Law Enforcement’s Criminal Justice Standards and Training Commission\, a copy of your valid ID card issued by your employing law enforcement agency is sufficient to satisfy the training requirement.\nIf you have successfully completed a training program approved by the Florida Criminal Justice Standards and Training Commission for certification as a law enforcement officer\, correctional officer\, or correctional probation officer\, a copy of your certificate of completion is sufficient to satisfy the training requirement.\nIf you qualify for a Class “DI” security officer instructor license under Rule 5N-1.138(1)(e)-(g)\, Florida Administrative Code\, proof of such qualification is sufficient to satisfy the training requirement.\nIf you received relevant military training or education during service in the United States Armed Forces\, proof of such training or education is sufficient to satisfy the training requirement.\n\n\n\n\nThis State of Florida 42 hours course meets the State Curriculum and Certification required to obtain the Security Officer Unarmed D License. This course is provided by a Security Officer Training Facility licensed by the Department of Agriculture and Consumer Services. The instructor holds a DI license to teach and certify you once you complete the required curriculum and upon successful completion of the course testing. \n\n\nOur package consists of the following: 40 hours of coursework\, exam review\, and 2 hours of exam. To learn more or register click here for your license D.\n\n\n\nFollow us on Facebook
URL:https://securitylicense.com/events/security-officer-license-d-fort-lauderdale-16/
LOCATION:Fort Lauderdale\, FL\, United States
CATEGORIES:Fort Lauderdale,Orlando
ATTACH;FMTTYPE=image/png:https://securitylicense.com/wp-content/uploads/2025/04/Security-Officer-D-license.png
END:VEVENT
BEGIN:VEVENT
DTSTART;TZID=America/New_York:20260615T080000
DTEND;TZID=America/New_York:20260619T190000
DTSTAMP:20260423T171400
CREATED:20260320T164135Z
LAST-MODIFIED:20260320T164135Z
UID:10000194-1781510400-1781895600@securitylicense.com
SUMMARY:Security Class D ONLINE
DESCRIPTION:Security Class D Online Training – Start Today\, Don’t Delay\n– Only $100\nThe Florida Security Class D License Course is a required 40-hour training program\, mandated by the State of Florida Department of Agriculture and Consumer Services\, Division of Licensing. A 2-hour\, 170-question final exam must be completed with a minimum passing score of 75%. This course can be taken either online or in-person\, and candidates are strongly encouraged to act now—spots fill quickly and delays could mean missed opportunities. \n\nWhy the Security Class D License Matters\nA valid Class D Security Officer License is required for anyone seeking employment as an unarmed security officer in Florida. The training provided meets all state certification requirements and is delivered by a fully licensed Security Officer Training Facility. Instruction is led by a certified DI-licensed instructor authorized to issue your certification upon successful course completion. \nWhether you’re looking to start a new career in the security industry or fulfill licensing requirements quickly and affordably\, the Security Class D Online Training offers you this advantage to obatain your certification.  \n\nChoose Your Training Format – Online or In-Person\nThe Security Class D course is offered in two formats to meet your schedule and learning style: \n\n🕒 Online Class D Course – A 4-day or 5-day online course designed for self-motivated individuals. See the Home Page for the latest schedule.\n🌙 Evening Courses – Offered twice a year in January and June for those with daytime commitments.\n🏫 In-Person Classes – Available for students who prefer a distraction-free\, interactive classroom experience with exam reviews to help prepare you for the 170 question exam.\n\nDon’t wait—procrastination could delay your license and job opportunities. \n\nImportant Information About the Online Course\nThe Security Class D Online Training is ideal for students who cannot attend in-person sessions but can maintain strong self-discipline and time management. This course includes: \n\n40 hours of instructor-led online coursework\n2 hours for the proctored final exam\nLive video attendance is mandatory during all sessions\nA retake fee of $50 applies if the exam is not passed on the first attempt\n\n⚠️ While online flexibility is offered\, it must be noted that in-person classes provide advantages such as live instructor interaction\, peer engagement\, and in-depth class reviews that can boost your understanding and retention. \n\nEligibility Requirements for a Florida Class D License\nTo enroll\, you must: \n\nBe at least 18 years old\nBe a U.S. citizen\, legal resident\, or authorized to work in the U.S.\nSubmit proof of 40 hours of completed training from a licensed facility\n\nMilitary personnel\, law enforcement officers\, and certain certified individuals may qualify for training exemptions (documentation required). \n\nStart Training for Your Security Career Today\nThis is your moment to act. With demand for licensed security officers growing across Florida\, now is the time to secure your future. Train online or in-person\, but do not delay—classes fill fast and seats are limited. \n✅ Get certified. Get hired. Get started now. \n🔗 REGISTER NOW to reserve your seat in the next Security Class D course! \n\n\n\nFollow us on Facebook
URL:https://securitylicense.com/events/security-class-d-online-27/
LOCATION:Online\, FL\, United States
CATEGORIES:Online Class D
ATTACH;FMTTYPE=image/png:https://securitylicense.com/wp-content/uploads/2025/11/Online-class-D-image.png
END:VEVENT
BEGIN:VEVENT
DTSTART;TZID=America/New_York:20260619T080000
DTEND;TZID=America/New_York:20260621T180000
DTSTAMP:20260423T171400
CREATED:20260320T155959Z
LAST-MODIFIED:20260320T155959Z
UID:10000187-1781856000-1782064800@securitylicense.com
SUMMARY:Security Officer license G Fort Lauderdale
DESCRIPTION:In order to obtain your Security armed guard license you must read the following:\nTo become a licensed Class G security officer in Florida\, you need to fulfill several requirements and complete specific steps. Here’s a detailed guide to help you through the process: \n1. Meet Basic Eligibility Requirements\n\nAge: You must be at least 21 years old.\nCitizenship: You must be a U.S. citizen or legal resident.\nBackground Check: You must have a clean criminal record. A background check will be conducted by the Florida Department of Agriculture and Consumer Services (FDACS). Certain criminal convictions may disqualify you.\n\n2. Complete a State-Approved G License Training Course\n\nTraining: You must complete a Class G Statewide Firearm License training course. This training must be provided by a licensed Class K Firearms Instructor.\n\nDuration: The training course typically includes at least 28 hours of instruction.\nContent: The course covers topics such as firearms safety\, the legal aspects of using force\, marksmanship\, and the proper handling of firearms.\nCertification: After completing the training\, you will receive a completion certificate that you will need for the licensing application.\n\n\n\n3. Pass the Firearms Proficiency Test\n\nYou must pass a written and practical firearms proficiency test as part of the training course. The test will evaluate your knowledge of firearms laws and your ability to handle and use a firearm safely and effectively.\n\n4. Submit an Application to FDACS\n\nApplication Form: You need to fill out the Class G Statewide Firearm License application. This can be done online through the FDACS website.\nFee: Pay the non-refundable application fee. As of the latest information\, the fee is $112 for a Class G license. Check the FDACS website for current fees.\n\n5. Complete a Background Check\n\nAs part of the application process\, you will need to undergo a criminal background check. You will be fingerprinted\, and the results will be reviewed by FDACS.\nYou can schedule your fingerprinting appointment through an approved fingerprinting service provider or at the Florida Department of Agriculture and Consumer Services. The fingerprinting fee is separate from the license application fee.\n\n6. Submit the Required Documents\n\nCompletion Certificate: Provide the certificate of completion from your Class G training course.\nProof of Citizenship or Legal Residency: Provide appropriate documentation to prove you are a U.S. citizen or legal resident.\n\n7. Pass a Psychological Examination (if applicable)\n\nWhile not always a requirement\, some employers might require you to pass a psychological evaluation to ensure you are fit for carrying a firearm. Check with your prospective employer and/or your instructor for this requirement.\n\n8. Receive Your Security Officer G license \n\nAfter you have completed all the above steps and FDACS has reviewed and approved your application\, you will receive your Class G Statewide Firearm License.\n\n9. Maintain Your G License\n\nRenewal: Every two years\, you must renew your G license. To renew\, you will need to complete a renewal application and may need to provide proof of ongoing qualifications or continuing education\, depending on FDACS requirements at the time of renewal.\n\nSummary Table of Requirements\n\n\n\nRequirement\nDetails\n\n\n\n\nAge\nAt least 21 years old\n\n\nCitizenship\nU.S. citizen or legal resident\n\n\nCriminal Background\nClean criminal record\n\n\nTraining Course\nClass G Statewide Firearm License course\, 28 hours\, from a Class K Instructor\n\n\nFirearms Proficiency Test\nPass written and practical tests\n\n\nApplication\nSubmit to FDACS with a $112 fee\n\n\nBackground Check\nCriminal background check with fingerprinting\n\n\nDocuments Required\nCompletion certificate\, proof of citizenship or residency\n\n\nPsychological Examination\nNot always required but may be needed for employment\n\n\nLicense Renewal\nEvery 2 years\, with yearly mandatory 4 hours re-qualification training\n\n\n\nFor the most accurate and up-to-date information\, always check the official Florida Department of Agriculture and Consumer Services (FDACS) website or contact them directly. \nIf you have further questions or need specific details about any part of the process\, feel free to ask! \n\n\n\n\n\n\n\n\n\n\n\n\n\n\nIn the event that you do not have a license such as a class D\, class C\, class CC or class M\, you can obtain the G license by enrolling in the Bundle course (D\, G and Concealed-Know the Law) or adding a class D course in person or online course. The D license qualifies you to obtain the companion security officer G  license. \nFollow us on Facebook
URL:https://securitylicense.com/events/security-officer-license-g-fort-lauderdale-28/
LOCATION:Fort Lauderdale\, FL\, United States
CATEGORIES:Fort Lauderdale
ATTACH;FMTTYPE=image/png:https://securitylicense.com/wp-content/uploads/2025/04/Security-Officer-G-license-class.png
END:VEVENT
BEGIN:VEVENT
DTSTART;TZID=America/New_York:20260620T090000
DTEND;TZID=America/New_York:20260620T130000
DTSTAMP:20260423T171400
CREATED:20260320T152957Z
LAST-MODIFIED:20260320T152957Z
UID:10000183-1781946000-1781960400@securitylicense.com
SUMMARY:Security License G Re-qualification Hialeah 9am-1pm
DESCRIPTION:Security License G re-qualification\nThe Class “G” license holder must complete four hours of requalifying training each year [  504.5 KB ] . The Florida Deapartment of Agriculture and Consumer Services requires that licensees complete a yearly security license G re-qualification annual 4 hour course. \nTraining requirements consist of: \n\nA review of curriculum topics that may include recent changes in the law\n25 questions exam\nShooting at least string of 48 rounds\n\n\n\n\n\n\n\n\n\n\n\n\n\n\nThe licensee must score a minimum of 168 points. The top score is 240 points. The licensee will have three attempts to achieve a minimum score. If the licensee does not qualify\, remedial training will recommended for the licensee. After retraining\, the licensee can return and attempt re-qualify. \n\n\n\n\n\n\n\n\n\n\n\n\n\nTraining Locations for your Security G license re-qualification:\nSecurity License G re-qualification training is an in-person class. The class takes place at a local range. Our school offers the course in Central and Southeast Florida. The training takes place several times during the month at the various locations. Look at our class schedule for available dates. \nFrom time to time we add additional training dates. In the event that you do not see a suitable date call us. We will assist you and check for possible alternatives. \n**Pre-Requisite**Must hold a valid State of Florida Security Officer G License.** \n\nOur package consists of the following: \n\nProof of Payment\nProficiency certificatificate sent via email wihtin 72 hours\, as required DOL.  \n\n\nDivision of Licensing Note to licensee:\nBy removing the issue date from your G license\, the Division intends to clarify\, when a licensee is to complete the 4 hour annual retraining requirement and report it. The reporting to the Division must be prior to the month and day which appears as the expiration date. \nDuring the first year of licensure\, licensees must complete and report their annual 4 hour retraining by the same month and day upon which their license will expire the following year. \nDuring the second year of licensure\, licensees must complete and report their annual 4 hour retraining prior to the actual expiration date of the license. \nAs a Class “K” Licensed Instructor\, I stress requirements and dates in Class “G” training to prevent license suspension. \nThe example below\, shows the required submission dates: \nIf your DATE OF LICENSE EXPIRATION is January 11\, 2026\n• You MUST complete and report your YEAR ONE retraining by January 11\, 2025\n• You MUST complete and report your YEAR TWO retraining after January 11\, 2025 but\nbefore January 11\, 2026 \nPlease note the following important points:\n\nIf you fail to complete and report YEAR ONE training during the first year of the valid term of your license. Your license will automatically be suspended. The license will remain in suspended status\, until you provide the division with an original CFP. The CFP must reflect completion of YEAR ONE training forthe first year.\nIf you fail to complete and report YEAR TWO training during the second year of the valid term of your license\, you will not be able to renew your license until you have provided the division with a CFP reflecting completion of YEAR TWO training. To avoid a late fee\, your renewal application must be received by the Division of Licensing on or before the expiration date of your license.\nIf the four-hour annual re-qualifying training isn’t completed before YEAR ONE or YEAR TWO anniversary dates\, or license expiration\, the entire 28-hour initial training will be required. Only after completing the training will your suspended or expiring license be reinstated or renewed.
URL:https://securitylicense.com/events/security-license-g-re-qualification-hialeah-9am-1pm-8/
LOCATION:Hialeah\, FL\, United States
CATEGORIES:Hialeah
ATTACH;FMTTYPE=image/png:https://securitylicense.com/wp-content/uploads/2025/04/Security-Officer-G-license-class.png
END:VEVENT
BEGIN:VEVENT
DTSTART;TZID=America/New_York:20260706T040000
DTEND;TZID=America/New_York:20260709T140000
DTSTAMP:20260423T171400
CREATED:20260320T160540Z
LAST-MODIFIED:20260320T160540Z
UID:10000189-1783310400-1783605600@securitylicense.com
SUMMARY:Security Officer License D Clermont in person
DESCRIPTION:Class “D” Security Officer License Requirements\n\n\nAny individual who performs the services of a security officer must have a Class “D” license. \nEligibility Requirements for your security license:\nTo qualify for a license\, you must: \n\nBe at least 18 years old.\nBe a citizen or legal resident alien of the United States or have been granted authority to work in this country by the Department of Homeland Security\, U.S. Citizenship and Immigration Services.\n\nTraining/Experience\nYou must submit proof of successful completion of a minimum of 40 hours of professional training provided by a security officer school or training facility licensed by the Florida Department of Agriculture and Consumer Services. \nExceptions: \n\nIf you are a currently employed law enforcement officer\, correctional officer\, or correctional probation officer certified by the Florida Department of Law Enforcement’s Criminal Justice Standards and Training Commission\, a copy of your valid ID card issued by your employing law enforcement agency is sufficient to satisfy the training requirement.\nIf you have successfully completed a training program approved by the Florida Criminal Justice Standards and Training Commission for certification as a law enforcement officer\, correctional officer\, or correctional probation officer\, a copy of your certificate of completion is sufficient to satisfy the training requirement.\nIf you qualify for a Class “DI” security officer instructor license under Rule 5N-1.138(1)(e)-(g)\, Florida Administrative Code\, proof of such qualification is sufficient to satisfy the training requirement.\nIf you received relevant military training or education during service in the United States Armed Forces\, proof of such training or education is sufficient to satisfy the training requirement.\n\n\n\n\nThis State of Florida 42 hours course meets the State Curriculum and Certification required to obtain the Security Officer Unarmed D License. This course is provided by a Security Officer Training Facility licensed by the Department of Agriculture and Consumer Services. The instructor holds a DI license to teach and certify you once you complete the required curriculum and upon successful completion of the course testing. \n\n\nOur package consists of the following: 40 hours of coursework\, exam review\, and 2 hours of exam. To learn more or register click here for your license D.\n\nSecurity Officer G License\nThe companion G license is for the individual that wishes to work armed. The class G 28 hours course is a 3 day course. The course consists of 2 classroom days and 1 range day. To learn more about the course click Security Officer G License \nYou can also get the training for concealed weapon firearm license and know where it is legal to carry. Get the Bundle D/G/CCW.\n\nWe at Florida Security Licensing & Firearms Defensive Training wish you the very best throughout your training and beyond.\n\n\nFollow us on Facebook \nCheck our BLOG \nFlorida Department of Agriculture & Consumer Services website for the Class “D” Security Officer License Requirements. After viewing the State website\, make sure to hit your back page to sign up for class.
URL:https://securitylicense.com/events/security-officer-license-d-clermont-in-person-14/
LOCATION:Clermont\, FL\, United States
CATEGORIES:Clermontt
ATTACH;FMTTYPE=image/png:https://securitylicense.com/wp-content/uploads/2025/04/Security-Officer-D-license.png
END:VEVENT
BEGIN:VEVENT
DTSTART;TZID=America/New_York:20260706T080000
DTEND;TZID=America/New_York:20260710T190000
DTSTAMP:20260423T171400
CREATED:20260320T164404Z
LAST-MODIFIED:20260320T164404Z
UID:10000195-1783324800-1783710000@securitylicense.com
SUMMARY:Security Class D ONLINE
DESCRIPTION:Security Class D Online Training – Start Today\, Don’t Delay\n– Only $100\nThe Florida Security Class D License Course is a required 40-hour training program\, mandated by the State of Florida Department of Agriculture and Consumer Services\, Division of Licensing. A 2-hour\, 170-question final exam must be completed with a minimum passing score of 75%. This course can be taken either online or in-person\, and candidates are strongly encouraged to act now—spots fill quickly and delays could mean missed opportunities. \n\nWhy the Security Class D License Matters\nA valid Class D Security Officer License is required for anyone seeking employment as an unarmed security officer in Florida. The training provided meets all state certification requirements and is delivered by a fully licensed Security Officer Training Facility. Instruction is led by a certified DI-licensed instructor authorized to issue your certification upon successful course completion. \nWhether you’re looking to start a new career in the security industry or fulfill licensing requirements quickly and affordably\, the Security Class D Online Training offers you this advantage to obatain your certification.  \n\nChoose Your Training Format – Online or In-Person\nThe Security Class D course is offered in two formats to meet your schedule and learning style: \n\n🕒 Online Class D Course – A 4-day or 5-day online course designed for self-motivated individuals. See the Home Page for the latest schedule.\n🌙 Evening Courses – Offered twice a year in January and June for those with daytime commitments.\n🏫 In-Person Classes – Available for students who prefer a distraction-free\, interactive classroom experience with exam reviews to help prepare you for the 170 question exam.\n\nDon’t wait—procrastination could delay your license and job opportunities. \n\nImportant Information About the Online Course\nThe Security Class D Online Training is ideal for students who cannot attend in-person sessions but can maintain strong self-discipline and time management. This course includes: \n\n40 hours of instructor-led online coursework\n2 hours for the proctored final exam\nLive video attendance is mandatory during all sessions\nA retake fee of $50 applies if the exam is not passed on the first attempt\n\n⚠️ While online flexibility is offered\, it must be noted that in-person classes provide advantages such as live instructor interaction\, peer engagement\, and in-depth class reviews that can boost your understanding and retention. \n\nEligibility Requirements for a Florida Class D License\nTo enroll\, you must: \n\nBe at least 18 years old\nBe a U.S. citizen\, legal resident\, or authorized to work in the U.S.\nSubmit proof of 40 hours of completed training from a licensed facility\n\nMilitary personnel\, law enforcement officers\, and certain certified individuals may qualify for training exemptions (documentation required). \n\nStart Training for Your Security Career Today\nThis is your moment to act. With demand for licensed security officers growing across Florida\, now is the time to secure your future. Train online or in-person\, but do not delay—classes fill fast and seats are limited. \n✅ Get certified. Get hired. Get started now. \n🔗 REGISTER NOW to reserve your seat in the next Security Class D course! \n\n\n\nFollow us on Facebook
URL:https://securitylicense.com/events/security-class-d-online-28/
LOCATION:Online\, FL\, United States
CATEGORIES:Online Class D
ATTACH;FMTTYPE=image/png:https://securitylicense.com/wp-content/uploads/2025/11/Online-class-D-image.png
END:VEVENT
END:VCALENDAR